BEGIN:VCALENDAR
VERSION:2.0
PRODID:-//ENSA Memorial Appeal - ECPv6.15.20//NONSGML v1.0//EN
CALSCALE:GREGORIAN
METHOD:PUBLISH
X-WR-CALNAME:ENSA Memorial Appeal
X-ORIGINAL-URL:https://ensamemorialappeal.co.uk
X-WR-CALDESC:Events for ENSA Memorial Appeal
REFRESH-INTERVAL;VALUE=DURATION:PT1H
X-Robots-Tag:noindex
X-PUBLISHED-TTL:PT1H
BEGIN:VTIMEZONE
TZID:Europe/London
BEGIN:DAYLIGHT
TZOFFSETFROM:+0000
TZOFFSETTO:+0100
TZNAME:BST
DTSTART:20210328T010000
END:DAYLIGHT
BEGIN:STANDARD
TZOFFSETFROM:+0100
TZOFFSETTO:+0000
TZNAME:GMT
DTSTART:20211031T010000
END:STANDARD
BEGIN:DAYLIGHT
TZOFFSETFROM:+0000
TZOFFSETTO:+0100
TZNAME:BST
DTSTART:20220327T010000
END:DAYLIGHT
BEGIN:STANDARD
TZOFFSETFROM:+0100
TZOFFSETTO:+0000
TZNAME:GMT
DTSTART:20221030T010000
END:STANDARD
BEGIN:DAYLIGHT
TZOFFSETFROM:+0000
TZOFFSETTO:+0100
TZNAME:BST
DTSTART:20230326T010000
END:DAYLIGHT
BEGIN:STANDARD
TZOFFSETFROM:+0100
TZOFFSETTO:+0000
TZNAME:GMT
DTSTART:20231029T010000
END:STANDARD
END:VTIMEZONE
BEGIN:VEVENT
DTSTART;TZID=Europe/London:20220201T190000
DTEND;TZID=Europe/London:20220201T210000
DTSTAMP:20260425T133633
CREATED:20220113T163306Z
LAST-MODIFIED:20220113T163306Z
UID:1079-1643742000-1643749200@ensamemorialappeal.co.uk
SUMMARY:Bingo Feb 1st
DESCRIPTION:Bingo\n10 games of bingo 9 prize ones plus a cash flier! Also a raffle. \n£10 for 6 books including interval refreshments. \nA great fun night out for all ages!
URL:https://ensamemorialappeal.co.uk/event/bingo-feb-1st/
LOCATION:Welshpool Bingo\, Corn Exchange\, Welshpool\, Powys\, SY21 7RT\, United Kingdom
CATEGORIES:Bingo
ATTACH;FMTTYPE=image/jpeg:https://ensamemorialappeal.co.uk/wp-content/uploads/2021/12/bingo.jpg
ORGANIZER;CN="Alan Crowe":MAILTO:enquiries@ensamemorialappeal.co.uk
END:VEVENT
END:VCALENDAR