BEGIN:VCALENDAR
VERSION:2.0
PRODID:-//ENSA Memorial Appeal - ECPv6.15.20//NONSGML v1.0//EN
CALSCALE:GREGORIAN
METHOD:PUBLISH
X-WR-CALNAME:ENSA Memorial Appeal
X-ORIGINAL-URL:https://ensamemorialappeal.co.uk
X-WR-CALDESC:Events for ENSA Memorial Appeal
REFRESH-INTERVAL;VALUE=DURATION:PT1H
X-Robots-Tag:noindex
X-PUBLISHED-TTL:PT1H
BEGIN:VTIMEZONE
TZID:Europe/London
BEGIN:DAYLIGHT
TZOFFSETFROM:+0000
TZOFFSETTO:+0100
TZNAME:BST
DTSTART:20220327T010000
END:DAYLIGHT
BEGIN:STANDARD
TZOFFSETFROM:+0100
TZOFFSETTO:+0000
TZNAME:GMT
DTSTART:20221030T010000
END:STANDARD
BEGIN:DAYLIGHT
TZOFFSETFROM:+0000
TZOFFSETTO:+0100
TZNAME:BST
DTSTART:20230326T010000
END:DAYLIGHT
BEGIN:STANDARD
TZOFFSETFROM:+0100
TZOFFSETTO:+0000
TZNAME:GMT
DTSTART:20231029T010000
END:STANDARD
BEGIN:DAYLIGHT
TZOFFSETFROM:+0000
TZOFFSETTO:+0100
TZNAME:BST
DTSTART:20240331T010000
END:DAYLIGHT
BEGIN:STANDARD
TZOFFSETFROM:+0100
TZOFFSETTO:+0000
TZNAME:GMT
DTSTART:20241027T010000
END:STANDARD
END:VTIMEZONE
BEGIN:VEVENT
DTSTART;TZID=Europe/London:20230908T200000
DTEND;TZID=Europe/London:20230908T233000
DTSTAMP:20260424T101230
CREATED:20230601T081616Z
LAST-MODIFIED:20230601T081616Z
UID:5228-1694203200-1694215800@ensamemorialappeal.co.uk
SUMMARY:Fleetwood Shack - Whitchurch
DESCRIPTION:Civic Centre\, whitchurch Y13 1AX \nFleetwood Shack is an incredible tribute band that celebrates the music of the world-famous band Fleetwood Mac! This South Wales based band perform all over the UK and International Theaters\, Corporate Events\, Festivals and other top venues. \nChantelle’s portrayal of Stevie Nicks is a site to behold\, and her vocals will blow you away. The whole band really does celebrate the original act\, the playing and vocal harmonies are top notch as well. \nFleetwood Shack covers the entire career from the early days of Peter Green\, & especially the hit songs like Rhiannon and Go your Own way\, Dreams\, Everywhere & many more. \nTickets from https://ww.jumblebee.co.uk/fleetwoodshackwhitchurch \n 
URL:https://ensamemorialappeal.co.uk/event/fleetwood-shack-whitchurch/
END:VEVENT
BEGIN:VEVENT
DTSTART;TZID=Europe/London:20230929T140000
DTEND;TZID=Europe/London:20230929T170000
DTSTAMP:20260424T101230
CREATED:20230601T082720Z
LAST-MODIFIED:20230601T082720Z
UID:5233-1695996000-1696006800@ensamemorialappeal.co.uk
SUMMARY:Spitit of the Blitz Show
DESCRIPTION:Welshpool town Hall – SY21 7JQ – 2pm \nStarring Andy Eastwood\, Maggie O’Hara and Pete Lindup\, this feel-good show recreates all your forties favorites\, including Vera Lynn\, George Formby\, Max Miller\, Bing Crosby\, Anne Shelton and Gracie Fields…A true heart-warming afternoon of live music and laughter. \nFor those who remember the 40s\, the show is a trip down memory lane; for those who don’t\, it’s a Sentimental Journey back through time to the glorious melodies and good clean comedy that accompanied a dogged nation’s battle for survival. \nTickets from https://www.jumblebee.co.uk/spiritoftheblitz
URL:https://ensamemorialappeal.co.uk/event/spitit-of-the-blitz-show/
ATTACH;FMTTYPE=image/jpeg:https://ensamemorialappeal.co.uk/wp-content/uploads/2023/06/SOTB-2023-WEB-scaled.jpg
END:VEVENT
END:VCALENDAR