BEGIN:VCALENDAR
VERSION:2.0
PRODID:-//ENSA Memorial Appeal - ECPv6.15.20//NONSGML v1.0//EN
CALSCALE:GREGORIAN
METHOD:PUBLISH
X-WR-CALNAME:ENSA Memorial Appeal
X-ORIGINAL-URL:https://ensamemorialappeal.co.uk
X-WR-CALDESC:Events for ENSA Memorial Appeal
REFRESH-INTERVAL;VALUE=DURATION:PT1H
X-Robots-Tag:noindex
X-PUBLISHED-TTL:PT1H
BEGIN:VTIMEZONE
TZID:Europe/London
BEGIN:DAYLIGHT
TZOFFSETFROM:+0000
TZOFFSETTO:+0100
TZNAME:BST
DTSTART:20220327T010000
END:DAYLIGHT
BEGIN:STANDARD
TZOFFSETFROM:+0100
TZOFFSETTO:+0000
TZNAME:GMT
DTSTART:20221030T010000
END:STANDARD
BEGIN:DAYLIGHT
TZOFFSETFROM:+0000
TZOFFSETTO:+0100
TZNAME:BST
DTSTART:20230326T010000
END:DAYLIGHT
BEGIN:STANDARD
TZOFFSETFROM:+0100
TZOFFSETTO:+0000
TZNAME:GMT
DTSTART:20231029T010000
END:STANDARD
BEGIN:DAYLIGHT
TZOFFSETFROM:+0000
TZOFFSETTO:+0100
TZNAME:BST
DTSTART:20240331T010000
END:DAYLIGHT
BEGIN:STANDARD
TZOFFSETFROM:+0100
TZOFFSETTO:+0000
TZNAME:GMT
DTSTART:20241027T010000
END:STANDARD
BEGIN:DAYLIGHT
TZOFFSETFROM:+0000
TZOFFSETTO:+0100
TZNAME:BST
DTSTART:20250330T010000
END:DAYLIGHT
BEGIN:STANDARD
TZOFFSETFROM:+0100
TZOFFSETTO:+0000
TZNAME:GMT
DTSTART:20251026T010000
END:STANDARD
BEGIN:DAYLIGHT
TZOFFSETFROM:+0000
TZOFFSETTO:+0100
TZNAME:BST
DTSTART:20260329T010000
END:DAYLIGHT
BEGIN:STANDARD
TZOFFSETFROM:+0100
TZOFFSETTO:+0000
TZNAME:GMT
DTSTART:20261025T010000
END:STANDARD
BEGIN:DAYLIGHT
TZOFFSETFROM:+0000
TZOFFSETTO:+0100
TZNAME:BST
DTSTART:20270328T010000
END:DAYLIGHT
BEGIN:STANDARD
TZOFFSETFROM:+0100
TZOFFSETTO:+0000
TZNAME:GMT
DTSTART:20271031T010000
END:STANDARD
END:VTIMEZONE
BEGIN:VEVENT
DTSTART;TZID=Europe/London:20230908T200000
DTEND;TZID=Europe/London:20230908T233000
DTSTAMP:20260425T161306
CREATED:20230601T081616Z
LAST-MODIFIED:20230601T081616Z
UID:5228-1694203200-1694215800@ensamemorialappeal.co.uk
SUMMARY:Fleetwood Shack - Whitchurch
DESCRIPTION:Civic Centre\, whitchurch Y13 1AX \nFleetwood Shack is an incredible tribute band that celebrates the music of the world-famous band Fleetwood Mac! This South Wales based band perform all over the UK and International Theaters\, Corporate Events\, Festivals and other top venues. \nChantelle’s portrayal of Stevie Nicks is a site to behold\, and her vocals will blow you away. The whole band really does celebrate the original act\, the playing and vocal harmonies are top notch as well. \nFleetwood Shack covers the entire career from the early days of Peter Green\, & especially the hit songs like Rhiannon and Go your Own way\, Dreams\, Everywhere & many more. \nTickets from https://ww.jumblebee.co.uk/fleetwoodshackwhitchurch \n 
URL:https://ensamemorialappeal.co.uk/event/fleetwood-shack-whitchurch/
END:VEVENT
BEGIN:VEVENT
DTSTART;TZID=Europe/London:20230929T140000
DTEND;TZID=Europe/London:20230929T170000
DTSTAMP:20260425T161306
CREATED:20230601T082720Z
LAST-MODIFIED:20230601T082720Z
UID:5233-1695996000-1696006800@ensamemorialappeal.co.uk
SUMMARY:Spitit of the Blitz Show
DESCRIPTION:Welshpool town Hall – SY21 7JQ – 2pm \nStarring Andy Eastwood\, Maggie O’Hara and Pete Lindup\, this feel-good show recreates all your forties favorites\, including Vera Lynn\, George Formby\, Max Miller\, Bing Crosby\, Anne Shelton and Gracie Fields…A true heart-warming afternoon of live music and laughter. \nFor those who remember the 40s\, the show is a trip down memory lane; for those who don’t\, it’s a Sentimental Journey back through time to the glorious melodies and good clean comedy that accompanied a dogged nation’s battle for survival. \nTickets from https://www.jumblebee.co.uk/spiritoftheblitz
URL:https://ensamemorialappeal.co.uk/event/spitit-of-the-blitz-show/
ATTACH;FMTTYPE=image/jpeg:https://ensamemorialappeal.co.uk/wp-content/uploads/2023/06/SOTB-2023-WEB-scaled.jpg
END:VEVENT
BEGIN:VEVENT
DTSTART;TZID=Europe/London:20231013T200000
DTEND;TZID=Europe/London:20231013T233000
DTSTAMP:20260425T161306
CREATED:20230601T081923Z
LAST-MODIFIED:20230601T081923Z
UID:5231-1697227200-1697239800@ensamemorialappeal.co.uk
SUMMARY:Fleetwood Shack - Dorrington
DESCRIPTION:Dorrington Village Hall – SY5 7LD \nFleetwood Shack is an incredible tribute band that celebrates the music of the world-famous band Fleetwood Mac! This South Wales based band perform all over the UK and International Theaters\, Corporate Events\, Festivals and other top venues. \nChantelle’s portrayal of Stevie Nicks is a site to behold\, and her vocals will blow you away. The whole band really does celebrate the original act\, the playing and vocal harmonies are top notch as well. \nFleetwood Shack covers the entire career from the early days of Peter Green\, & especially the hit songs like Rhiannon and Go your Own way\, Dreams\, Everywhere & many more. \nTickets from https://ww.jumblebee.co.uk/fleetwoodshackshrewsbury \n 
URL:https://ensamemorialappeal.co.uk/event/fleetwood-shack-dorrington/
END:VEVENT
BEGIN:VEVENT
DTSTART;TZID=Europe/London:20260221T190000
DTEND;TZID=Europe/London:20260221T190000
DTSTAMP:20260425T161306
CREATED:20260105T080031Z
LAST-MODIFIED:20260105T091240Z
UID:5320-1771700400-1771700400@ensamemorialappeal.co.uk
SUMMARY:SPRING CHOIR CONCERT
DESCRIPTION:CANTORION GOGLEDD CYMRU CHOIR \nWith special guest RHYS MEIRION \nTickets £20\, £15\, £12.50 available from – Welshpool Jewellers\, Riffels\, Alexanders\, Hardy’s Bookstore\, St Mary’s Church\, June Morris Pool Quay Church. \nTickets from https://www.jumblebee.co.uk/cantoriangogleddcymru \n 
URL:https://ensamemorialappeal.co.uk/event/spring-choir-concert/
ATTACH;FMTTYPE=image/jpeg:https://ensamemorialappeal.co.uk/wp-content/uploads/2026/01/SPRING-CHOIR-CONCERT.jpg
END:VEVENT
BEGIN:VEVENT
DTSTART;TZID=Europe/London:20260523T090000
DTEND;TZID=Europe/London:20260524T160000
DTSTAMP:20260425T161306
CREATED:20260105T091811Z
LAST-MODIFIED:20260105T092438Z
UID:5323-1779526800-1779638400@ensamemorialappeal.co.uk
SUMMARY:IRONBRIDGE 1940s WEEKEND\, SHROPSHIRE
DESCRIPTION:Come along and visit our stand
URL:https://ensamemorialappeal.co.uk/event/spring-choir-concert-copy/
ATTACH;FMTTYPE=image/jpeg:https://ensamemorialappeal.co.uk/wp-content/uploads/2026/01/IRONBRIDGE-1940s-WEEKEND.jpg
END:VEVENT
BEGIN:VEVENT
DTSTART;TZID=Europe/London:20260606T100000
DTEND;TZID=Europe/London:20260606T160000
DTSTAMP:20260425T161306
CREATED:20260105T093358Z
LAST-MODIFIED:20260105T094045Z
UID:5328-1780740000-1780761600@ensamemorialappeal.co.uk
SUMMARY:WELSHPOOL CLASSIC CAR SHOW
DESCRIPTION:Church in Wales Primary School\, Salop Road\, Welshpool. \nClassic cars\, bikes & other vehicles. Stalls\, Catering and much more!
URL:https://ensamemorialappeal.co.uk/event/welshpool-classic-car-show/
ATTACH;FMTTYPE=image/jpeg:https://ensamemorialappeal.co.uk/wp-content/uploads/2026/01/WELSHPOOL-CLASSIC-CAR-SHOW-1.jpg
END:VEVENT
BEGIN:VEVENT
DTSTART;TZID=Europe/London:20260712T100000
DTEND;TZID=Europe/London:20260712T170000
DTSTAMP:20260425T161306
CREATED:20260105T094615Z
LAST-MODIFIED:20260105T095134Z
UID:5333-1783850400-1783875600@ensamemorialappeal.co.uk
SUMMARY:SHREWSBURY CLASSIC CAR SHOW
DESCRIPTION:Longden Village Hall\, Longden\, Nr Shrewsbury. SY5 8EX \nShrewsbury Classic Car Festival a great event for any classic car owner\, expert or enthusiast\, with over 300 vehicles\, stalls and entertainment this is a great day out for all the family.
URL:https://ensamemorialappeal.co.uk/event/shrewsbury-classic-car-show/
ATTACH;FMTTYPE=image/jpeg:https://ensamemorialappeal.co.uk/wp-content/uploads/2026/01/SHREWSBURY-CLASSIC-CAR-SHOW.jpg
END:VEVENT
BEGIN:VEVENT
DTSTART;TZID=Europe/London:20260815T100000
DTEND;TZID=Europe/London:20260816T170000
DTSTAMP:20260425T161306
CREATED:20260105T101011Z
LAST-MODIFIED:20260105T101011Z
UID:5336-1786788000-1786899600@ensamemorialappeal.co.uk
SUMMARY:LYTHAM 1940s WEEKEND
DESCRIPTION:Come and visit our stand near the Vintage Fairground.
URL:https://ensamemorialappeal.co.uk/event/lytham-1940s-weekend/
ATTACH;FMTTYPE=image/jpeg:https://ensamemorialappeal.co.uk/wp-content/uploads/2026/01/LYTHAM-1940s-WEEKEND.jpg
END:VEVENT
BEGIN:VEVENT
DTSTART;TZID=Europe/London:20260901T093000
DTEND;TZID=Europe/London:20260930T160000
DTSTAMP:20260425T161306
CREATED:20260105T101702Z
LAST-MODIFIED:20260105T101908Z
UID:5339-1788255000-1790784000@ensamemorialappeal.co.uk
SUMMARY:LONGEST YARN EXHIBITION - BRITAIN AT WAR
DESCRIPTION:Town Hall\, High Street Welshpool. SY21 7JQ \nA must see 80 knitted & crocheted tableaux depicting Britain at War from 1939 to 1945. \nwww.longestyarnwelshpool.co.uk
URL:https://ensamemorialappeal.co.uk/event/longest-yarn-exhibition-britain-at-war/
ATTACH;FMTTYPE=image/jpeg:https://ensamemorialappeal.co.uk/wp-content/uploads/2026/01/LONGEST-YARN-EXHIBITION-BRITAIN-AT-WAR.jpg
END:VEVENT
BEGIN:VEVENT
DTSTART;TZID=Europe/London:20260905T190000
DTEND;TZID=Europe/London:20260905T190000
DTSTAMP:20260425T161306
CREATED:20260105T102621Z
LAST-MODIFIED:20260105T102810Z
UID:5342-1788634800-1788634800@ensamemorialappeal.co.uk
SUMMARY:AN EVENING with THE RONNIES
DESCRIPTION:Town Hall\, High Street\, Welshpool. SY21 7JQ \nCome along and enjoy an evening being entertained by popular award winning vintage quartet The Ronnies. \nTickets £12.50 to include light buffet. \nTickets from https://www.jumblebee.co.uk/eveningwiththeronnies \n 
URL:https://ensamemorialappeal.co.uk/event/an-evening-with-the-ronnies/
ATTACH;FMTTYPE=image/jpeg:https://ensamemorialappeal.co.uk/wp-content/uploads/2026/01/The-Ronnies.jpg
END:VEVENT
BEGIN:VEVENT
DTSTART;TZID=Europe/London:20261024T190000
DTEND;TZID=Europe/London:20261024T190000
DTSTAMP:20260425T161306
CREATED:20260105T103036Z
LAST-MODIFIED:20260105T103229Z
UID:5345-1792868400-1792868400@ensamemorialappeal.co.uk
SUMMARY:TREORCHY MALE VOICE CHOIR IN CONCERT
DESCRIPTION:St. Mary’s Church\, Welshpool. \nCome along and join us for a superb evening of singing by one of Wales’ premier choirs! \nTickets from https://www.jumblebee.co.uk/treorchymalevoicechoirconcert \n 
URL:https://ensamemorialappeal.co.uk/event/treorchy-male-voice-choir-in-concert/
ATTACH;FMTTYPE=image/jpeg:https://ensamemorialappeal.co.uk/wp-content/uploads/2026/01/TREORCHY-MALE-VOICE-CHOIR-IN-CONCERT.jpg
END:VEVENT
BEGIN:VEVENT
DTSTART;TZID=Europe/London:20261108T103000
DTEND;TZID=Europe/London:20261108T120000
DTSTAMP:20260425T161306
CREATED:20260105T104030Z
LAST-MODIFIED:20260105T104030Z
UID:5348-1794133800-1794139200@ensamemorialappeal.co.uk
SUMMARY:REMEMBRANCE SUNDAY
DESCRIPTION:Lookout for our contingent as we take part in the annual Remembrance Parade and Lay an ENSA wreath at the cenotaph in London.
URL:https://ensamemorialappeal.co.uk/event/remembrance-sunday/
ATTACH;FMTTYPE=image/jpeg:https://ensamemorialappeal.co.uk/wp-content/uploads/2026/01/Remeberance-Sunday.jpg
END:VEVENT
END:VCALENDAR