BEGIN:VCALENDAR
VERSION:2.0
PRODID:-//ENSA Memorial Appeal - ECPv6.15.20//NONSGML v1.0//EN
CALSCALE:GREGORIAN
METHOD:PUBLISH
X-WR-CALNAME:ENSA Memorial Appeal
X-ORIGINAL-URL:https://ensamemorialappeal.co.uk
X-WR-CALDESC:Events for ENSA Memorial Appeal
REFRESH-INTERVAL;VALUE=DURATION:PT1H
X-Robots-Tag:noindex
X-PUBLISHED-TTL:PT1H
BEGIN:VTIMEZONE
TZID:UTC
BEGIN:STANDARD
TZOFFSETFROM:+0000
TZOFFSETTO:+0000
TZNAME:UTC
DTSTART:20210101T000000
END:STANDARD
END:VTIMEZONE
BEGIN:VEVENT
DTSTART;TZID=UTC:20220212T190000
DTEND;TZID=UTC:20220212T230000
DTSTAMP:20260419T182157
CREATED:20220113T161228Z
LAST-MODIFIED:20220115T205250Z
UID:1072-1644692400-1644706800@ensamemorialappeal.co.uk
SUMMARY:Valentines 1940s Dance
DESCRIPTION:Valentines 1940s Dance\nValentines 1940s Dance\, Saturday 12th February 2022 at Victory Hall in Meole Brace\, Shrewsbury. Vintage singer Ava Evergreen plus 40s DJ. Tickets £10 and doors open 7pm – 11pm. Licensed bar\, please bring own supper / snacks
URL:https://ensamemorialappeal.co.uk/event/valentines-1940s-dance/
LOCATION:Victory Hall\, Meole Brace\, Meole Brace\, Shrewsbury\, United Kingdom
CATEGORIES:Valentine Dance
ATTACH;FMTTYPE=image/jpeg:https://ensamemorialappeal.co.uk/wp-content/uploads/2022/01/4112917253_dfafcb24eb_c.jpg
ORGANIZER;CN="Alan Crowe":MAILTO:enquiries@ensamemorialappeal.co.uk
END:VEVENT
END:VCALENDAR