BEGIN:VCALENDAR
VERSION:2.0
PRODID:-//ENSA Memorial Appeal - ECPv6.15.20//NONSGML v1.0//EN
CALSCALE:GREGORIAN
METHOD:PUBLISH
X-ORIGINAL-URL:https://ensamemorialappeal.co.uk
X-WR-CALDESC:Events for ENSA Memorial Appeal
REFRESH-INTERVAL;VALUE=DURATION:PT1H
X-Robots-Tag:noindex
X-PUBLISHED-TTL:PT1H
BEGIN:VTIMEZONE
TZID:Europe/London
BEGIN:DAYLIGHT
TZOFFSETFROM:+0000
TZOFFSETTO:+0100
TZNAME:BST
DTSTART:20250330T010000
END:DAYLIGHT
BEGIN:STANDARD
TZOFFSETFROM:+0100
TZOFFSETTO:+0000
TZNAME:GMT
DTSTART:20251026T010000
END:STANDARD
BEGIN:DAYLIGHT
TZOFFSETFROM:+0000
TZOFFSETTO:+0100
TZNAME:BST
DTSTART:20260329T010000
END:DAYLIGHT
BEGIN:STANDARD
TZOFFSETFROM:+0100
TZOFFSETTO:+0000
TZNAME:GMT
DTSTART:20261025T010000
END:STANDARD
BEGIN:DAYLIGHT
TZOFFSETFROM:+0000
TZOFFSETTO:+0100
TZNAME:BST
DTSTART:20270328T010000
END:DAYLIGHT
BEGIN:STANDARD
TZOFFSETFROM:+0100
TZOFFSETTO:+0000
TZNAME:GMT
DTSTART:20271031T010000
END:STANDARD
END:VTIMEZONE
BEGIN:VEVENT
DTSTART;TZID=Europe/London:20260901T093000
DTEND;TZID=Europe/London:20260930T160000
DTSTAMP:20260423T005501
CREATED:20260105T101702Z
LAST-MODIFIED:20260105T101908Z
UID:5339-1788255000-1790784000@ensamemorialappeal.co.uk
SUMMARY:LONGEST YARN EXHIBITION - BRITAIN AT WAR
DESCRIPTION:Town Hall\, High Street Welshpool. SY21 7JQ \nA must see 80 knitted & crocheted tableaux depicting Britain at War from 1939 to 1945. \nwww.longestyarnwelshpool.co.uk
URL:https://ensamemorialappeal.co.uk/event/longest-yarn-exhibition-britain-at-war/
ATTACH;FMTTYPE=image/jpeg:https://ensamemorialappeal.co.uk/wp-content/uploads/2026/01/LONGEST-YARN-EXHIBITION-BRITAIN-AT-WAR.jpg
END:VEVENT
END:VCALENDAR